BEGIN:VCALENDAR
VERSION:2.0
PRODID:-//ExhibitionMatches.com//NONSGML v1.0//EN
BEGIN:VEVENT
UID=28139693-C7F5-905D-42424727643E6AA5
DTSTAMP=20260422T170007Z
DTSTART;VALUE=DATE:20260711
DTEND;VALUE=DATE:20260712
SUMMARY:Black Hills Night Brawl GIRLS Reg. Only
LOCATION:Custer High School Football Field, 560 Grunewaldt Drive, Custer, SD, 57730
DESCRIPTION:View full event details: https://wrestlingtournaments.org/view.cfm?ID=106964

URL;VALUE=URI:https://wrestlingtournaments.org/view.cfm?ID=106964
END:VEVENT
END:VCALENDAR