BEGIN:VCALENDAR
VERSION:2.0
PRODID:-//ExhibitionMatches.com//NONSGML v1.0//EN
BEGIN:VEVENT
UID=27E97EFD-0F62-DBC7-C096CBAF534521BD
DTSTAMP=20260422T165531Z
DTSTART;VALUE=DATE:20260711
DTEND;VALUE=DATE:20260712
SUMMARY:Black Hills Night Brawl XII
LOCATION:Custer High School Football Field, 560 Grunewaldt Drive, Custer, SD, 57730
DESCRIPTION:View full event details: https://wrestlingtournaments.org/view.cfm?ID=106965

URL;VALUE=URI:https://wrestlingtournaments.org/view.cfm?ID=106965
END:VEVENT
END:VCALENDAR