BEGIN:VCALENDAR
VERSION:2.0
PRODID:-//ExhibitionMatches.com//NONSGML v1.0//EN
BEGIN:VEVENT
UID=28396C52-BF75-94A7-182B10C1AA77F5A2
DTSTAMP=20260422T170415Z
DTSTART;VALUE=DATE:20260531
DTEND;VALUE=DATE:20260601
SUMMARY:Gold Rush Rumble
LOCATION:Deadwood Recreation Center, 105 Sherman St., Deadwood, SD, 57732
DESCRIPTION:View full event details: https://wrestlingtournaments.org/view.cfm?ID=107035

URL;VALUE=URI:https://wrestlingtournaments.org/view.cfm?ID=107035
END:VEVENT
END:VCALENDAR