BEGIN:VCALENDAR
VERSION:2.0
PRODID:-//ExhibitionMatches.com//NONSGML v1.0//EN
BEGIN:VEVENT
UID=283E50D2-ACA3-48AC-F1A953A857D167AD
DTSTAMP=20260422T170447Z
DTSTART;VALUE=DATE:20260707
DTEND;VALUE=DATE:20260710
SUMMARY:FargoCamp Boys2026
LOCATION:Northern State University, 1200 S. Jay St., Aberdeen, SD, 57401
DESCRIPTION:View full event details: https://wrestlingtournaments.org/view.cfm?ID=107081
Contact: Cory Neuharth ashley.gauer@northern.edu
URL;VALUE=URI:https://wrestlingtournaments.org/view.cfm?ID=107081
END:VEVENT
END:VCALENDAR