BEGIN:VCALENDAR
VERSION:2.0
PRODID:-//ExhibitionMatches.com//NONSGML v1.0//EN
BEGIN:VEVENT
UID=28229268-09A3-9038-59663EE0B5DF83AF
DTSTAMP=20260422T170145Z
DTSTART;VALUE=DATE:20260713
DTEND;VALUE=DATE:20260715
SUMMARY:FargoCamp Girls2026
LOCATION:Northern State University, 1200 S. Jay St, Aberdeen, SD, 57401
DESCRIPTION:View full event details: https://wrestlingtournaments.org/view.cfm?ID=107085
Contact: Cory Neuharth ashley.gauer@northern.edu
URL;VALUE=URI:https://wrestlingtournaments.org/view.cfm?ID=107085
END:VEVENT
END:VCALENDAR